BEGIN:VCALENDAR
PRODID:-//dvv-bw.de//dvv.Portalplattform//DE
VERSION:2.0
METHOD:PUBLISH
BEGIN:VEVENT
DTSTART:20270108T180000Z
DTEND:20270108T200000Z
DTSTAMP:20260426T024005Z
UID:670828106-670828250-1799362800000
SUMMARY:Neujahrsempfang der Stadt Rastatt 2027
LOCATION:BadnerHalle\, Kapellenstraße 20-22
DESCRIPTION:Die Stadt Rastatt lädt alle Bürgerinnen und Bürger herzlich zum Neujahrsempfang am Freitag\, 8. Januar 2027\, in die BadnerHalle ein. Beginn der Veranstaltung ist um 19 Uhr\, der Einlass erfolgt ab 18.30 Uhr. Der Eintritt ist frei\, eine Anmeldung nicht erforderlich. Weitere Infos zum Programm folgen.
CLASS:PUBLIC
X-ALT-DESC;FMTTYPE=text/html:Die Stadt Rastatt lädt alle Bürgerinnen und Bürger herzlich zum Neujahrsempfang am Freitag\, 8. Januar 2027\, in die BadnerHalle ein. Beginn der Veranstaltung ist um 19 Uhr\, der Einlass erfolgt ab 18.30 Uhr. Der Eintritt ist frei\, eine Anmeldung nicht erforderlich. Weitere Infos zum Programm folgen.
END:VEVENT
END:VCALENDAR
