BEGIN:VCALENDAR
PRODID:-//dvv-bw.de//dvv.Portalplattform//DE
VERSION:2.0
METHOD:PUBLISH
BEGIN:VEVENT
DTSTART:20260502T120000Z
DTEND:20260502T140000Z
DTSTAMP:20260420T192719Z
UID:669801165-667605002-1777672800000
SUMMARY:Stadtführung durch die Barockstadt
LOCATION:Tourist-Information Rastatt\, Kapellenstraße 34
DESCRIPTION:Rundgang durch das barocke Rastatt
CLASS:PUBLIC
X-ALT-DESC;FMTTYPE=text/html:Rundgang durch das barocke Rastatt
END:VEVENT
BEGIN:VEVENT
DTSTART:20260505T080000Z
DTEND:20260505T100000Z
DTSTAMP:20260420T192719Z
UID:669843814-662145353-1777932000000
SUMMARY:Sprechstunde des Seniorenbüros
LOCATION:Rossi-Haus Seniorenbüro\, Herrenstraße 13
DESCRIPTION:Einmal wöchentlich steht das Team des Seniorenbüros im Rossi-Haus für Ihre Fragen zur Verfügung. Außerhalb der Sprechstunde bitten wir die Anfrage bzw. Nachricht auf unserem Anrufbeantworter zu hinterlassen. Wir rufen gerne während der Sprechstunde zurück.
CLASS:PUBLIC
X-ALT-DESC;FMTTYPE=text/html:Einmal wöchentlich steht das Team des Seniorenbüros im Rossi-Haus für Ihre Fragen zur Verfügung. Außerhalb der Sprechstunde bitten wir die Anfrage bzw. Nachricht auf unserem Anrufbeantworter zu hinterlassen. Wir rufen gerne während der Sprechstunde zurück.
END:VEVENT
BEGIN:VEVENT
DTSTART:20260509T130000Z
DTEND:20260509T150000Z
DTSTAMP:20260420T192719Z
UID:670377163-660037752-1778277600000
SUMMARY:Funzelführung in den Kasematten am Südring
LOCATION:Kasematten am Südring\, Militärstr. 11
DESCRIPTION:Besichtigung der Kasematten am Südring mit Flankenbatterie sowei Außenanlage des Cavalier 1.\nDas besonders Reizvolle an dieser Führung ist\, dass die Räumlichkeiten wie damals nur mit einem schwachen Licht (der „Funzel“) erkundet werden und somit die Atmosphäre damaliger Zeiten nachempfunden wird.\nDie Teilnahme ist ab 14 Jahren empfohlen. Die Führung dauert ca. 1\,5 Stunden und kostet 10 Euro p. P.\, ermäßigt 6 Euro. Eine Anmeldung ist erforderlich. Tickets gibt es online und in der Tourist-Info Rastatt.
CLASS:PUBLIC
X-ALT-DESC;FMTTYPE=text/html:Besichtigung der Kasematten am Südring mit Flankenbatterie sowei Außenanlage des Cavalier 1.<br>Das besonders Reizvolle an dieser Führung ist\, dass die Räumlichkeiten wie damals nur mit einem schwachen Licht (der &bdquo;Funzel&ldquo;) erkundet werden und somit die Atmosphäre damaliger Zeiten nachempfunden wird.<br>Die Teilnahme ist ab 14 Jahren empfohlen. Die Führung dauert ca. 1\,5 Stunden und kostet 10 Euro p. P.\, ermäßigt 6 Euro. Eine Anmeldung ist erforderlich. Tickets gibt es online und in der Tourist-Info Rastatt.
END:VEVENT
BEGIN:VEVENT
DTSTART:20260510T080000Z
DTEND:20260510T100000Z
DTSTAMP:20260420T192719Z
UID:669187902-669188600-1778364000000
SUMMARY:Muttertagsbrunch - Breakfast & Lunch im Mercedes-Benz Kundencenter Rastatt
LOCATION:Mercedes-Benz Kundencenter Rastatt\, Gottlieb-Daimler-Straße
DESCRIPTION:Zum Muttertag lädt das Restaurant "Poké You" im Mercedes-Benz Kundencenter in Rastatt zu einem besonderen Brunch-Erlebnis ein. Zur Begrüßung erwartet unsere Gäste ein Aperitif\, mit dem wir gemeinsam auf alle Mütter anstoßen. Genießen Sie anschließend das entspannte Ambiente mit Ihren Liebsten bei einem abwechslungsreichen Buffet mit herzhaften und süßen Köstlichkeiten.
CLASS:PUBLIC
X-ALT-DESC;FMTTYPE=text/html:Zum Muttertag lädt das Restaurant "Poké You" im Mercedes-Benz Kundencenter in Rastatt zu einem besonderen Brunch-Erlebnis ein. Zur Begrüßung erwartet unsere Gäste ein Aperitif\, mit dem wir gemeinsam auf alle Mütter anstoßen. Genießen Sie anschließend das entspannte Ambiente mit Ihren Liebsten bei einem abwechslungsreichen Buffet mit herzhaften und süßen Köstlichkeiten.
END:VEVENT
BEGIN:VEVENT
DTSTART:20260510T090000Z
DTEND:20260510T110000Z
DTSTAMP:20260420T192719Z
UID:670377159-659487767-1778364000000
SUMMARY:Besser Fotografieren - Fotokurs für Kamera und Smartphone
LOCATION:Tourist-Information Rastatt\, Kapellenstraße 34
DESCRIPTION:Auf der Suche nach dem perfekten Bild\, führt Sie der Fotokurs zu den wichtigsten barocken Wahrzeichen und fotografischen Highlights der Stadt. Sie erhalten praktische Infos zur Kameraeinstellung\, den Grundlagen der Bildgestaltung und Belichtung. Mit Tipps und Tricks vom Profi zu Fokus\, Spiegelungen\, Framing u.v.m. gestalten Sie eigene fotografische Highlights - Überraschungsbilder inklusive. \nDer Treffpunkt Tourist-Info Rastatt an der Pagodenburg. Die Führung dauert ca. 2 Stunden und kostet 22 Euro p. P.\, ermäßigt 17 Euro. Mindestteilnehmerzahl 4\, maximal 10 Personen. Eine Anmeldung ist erforderlich.
CLASS:PUBLIC
X-ALT-DESC;FMTTYPE=text/html:Auf der Suche nach dem perfekten Bild\, führt Sie der Fotokurs zu den wichtigsten barocken Wahrzeichen und fotografischen Highlights der Stadt. Sie erhalten praktische Infos zur Kameraeinstellung\, den Grundlagen der Bildgestaltung und Belichtung. Mit Tipps und Tricks vom Profi zu Fokus\, Spiegelungen\, Framing u.v.m. gestalten Sie eigene fotografische Highlights - Überraschungsbilder inklusive. <br>Der Treffpunkt Tourist-Info Rastatt an der Pagodenburg. Die Führung dauert ca. 2 Stunden und kostet 22 Euro p. P.\, ermäßigt 17 Euro. Mindestteilnehmerzahl 4\, maximal 10 Personen. Eine Anmeldung ist erforderlich.
END:VEVENT
BEGIN:VEVENT
DTSTART:20260512T080000Z
DTEND:20260512T100000Z
DTSTAMP:20260420T192719Z
UID:669843815-662145353-1778536800000
SUMMARY:Sprechstunde des Seniorenbüros
LOCATION:Rossi-Haus Seniorenbüro\, Herrenstraße 13
DESCRIPTION:Einmal wöchentlich steht das Team des Seniorenbüros im Rossi-Haus für Ihre Fragen zur Verfügung. Außerhalb der Sprechstunde bitten wir die Anfrage bzw. Nachricht auf unserem Anrufbeantworter zu hinterlassen. Wir rufen gerne während der Sprechstunde zurück.
CLASS:PUBLIC
X-ALT-DESC;FMTTYPE=text/html:Einmal wöchentlich steht das Team des Seniorenbüros im Rossi-Haus für Ihre Fragen zur Verfügung. Außerhalb der Sprechstunde bitten wir die Anfrage bzw. Nachricht auf unserem Anrufbeantworter zu hinterlassen. Wir rufen gerne während der Sprechstunde zurück.
END:VEVENT
BEGIN:VEVENT
DTSTART:20260513T120000Z
DTEND:20260513T140000Z
DTSTAMP:20260420T192719Z
UID:670827688-670827688-1778623200000
SUMMARY:Blutspende - Die einfachste Art Leben zu retten
LOCATION:Reithalle Bürgersaal\, Am Schlossplatz 9
DESCRIPTION:13. Mai 2026\, 14:00 Uhr | Ein unvorhersehbarer Unfall\, eine plötzliche schwere Erkrankung: Jeden Tag werden in Deutschland etwa 15.000 Blutspenden benötigt. Blut wird kontinuierlich jeden Tag zur Versorgung von Patient*innen benötigt: Zum Beispiel zur Behandlung von Krebserkrankungen\, bei Operationen oder Unfallverletzungen. Eine Blutspende ist die einfachste Art Leben zu retten. Worauf warten? Jeder Typ ist gefragt! Jetzt Blut spenden! So einfach läuft‘s: Termin reservieren und mit einer Blutspende in weniger als einer Stunde Zeit bis zu drei Menschen helfen! Die reine Blutentnahme dauert dabei ca. 10 Minuten. Die restliche Zeit wird für die Anmeldung\, das Ausfüllen des Spendefragebogens\, das vertrauliche Arztgespräch und die Ruhepause im Anschluss an die Blutspende benötigt. Blutgruppe erfahren\, Gesundheitscheck & Snacks: Vorteile für Spender*innen (1) Nach der ersten Spende wird die Blutgruppe bestimmt. Im Notfall kann diese Information auch Spender*innen das Leben retten. (2) Jede Blutspende ist zugleich ein kleiner Gesundheitscheck: Vor der Spende werden Blutdruck\, Puls sowie der Eisen- bzw. Hämoglobin-Wert im Blut gemessen. Das gespendete Blut wird sorgfältig auf Infektionskrankheiten untersucht. (3) Vor und nach der Blutspende gibt es Getränke: viel trinken ist am Tag der Blutspende wichtig. Nach der Blutspende gibt es einen Imbiss oder ein Verpflegungspaket zur Stärkung und als Dankeschön für den Einsatz. (4) Und natürlich: Das gute\, zufriedene Gefühl der guten Tat. Alle Termine und weitere Informationen unter www.blutspende.de oder unter 0800 11 949 11. Bildmaterialien stehen unter www.blutspende.de/presse/mediathek zur Verfügung. Veranstalter: Deutsches Rotes Kreuz
CLASS:PUBLIC
X-ALT-DESC;FMTTYPE=text/html:13. Mai 2026\, 14:00 Uhr | Ein unvorhersehbarer Unfall\, eine plötzliche schwere Erkrankung: Jeden Tag werden in Deutschland etwa 15.000 Blutspenden benötigt. Blut wird kontinuierlich jeden Tag zur Versorgung von Patient*innen benötigt: Zum Beispiel zur Behandlung von Krebserkrankungen\, bei Operationen oder Unfallverletzungen. Eine Blutspende ist die einfachste Art Leben zu retten. Worauf warten? Jeder Typ ist gefragt! Jetzt Blut spenden! So einfach läuft&lsquo;s: Termin reservieren und mit einer Blutspende in weniger als einer Stunde Zeit bis zu drei Menschen helfen! Die reine Blutentnahme dauert dabei ca. 10 Minuten. Die restliche Zeit wird für die Anmeldung\, das Ausfüllen des Spendefragebogens\, das vertrauliche Arztgespräch und die Ruhepause im Anschluss an die Blutspende benötigt. Blutgruppe erfahren\, Gesundheitscheck & Snacks: Vorteile für Spender*innen (1) Nach der ersten Spende wird die Blutgruppe bestimmt. Im Notfall kann diese Information auch Spender*innen das Leben retten. (2) Jede Blutspende ist zugleich ein kleiner Gesundheitscheck: Vor der Spende werden Blutdruck\, Puls sowie der Eisen- bzw. Hämoglobin-Wert im Blut gemessen. Das gespendete Blut wird sorgfältig auf Infektionskrankheiten untersucht. (3) Vor und nach der Blutspende gibt es Getränke: viel trinken ist am Tag der Blutspende wichtig. Nach der Blutspende gibt es einen Imbiss oder ein Verpflegungspaket zur Stärkung und als Dankeschön für den Einsatz. (4) Und natürlich: Das gute\, zufriedene Gefühl der guten Tat. Alle Termine und weitere Informationen unter www.blutspende.de oder unter 0800 11 949 11. Bildmaterialien stehen unter www.blutspende.de/presse/mediathek zur Verfügung. Veranstalter: Deutsches Rotes Kreuz
END:VEVENT
BEGIN:VEVENT
DTSTART:20260517T120000Z
DTEND:20260517T140000Z
DTSTAMP:20260420T192719Z
UID:669801171-668359250-1778968800000
SUMMARY:Naturerlebnis "Wildtiere in der Stadt: Auf den Spuren der Lachse in der Murg"
LOCATION:Tourist-Information Rastatt\, Kapellenstraße 34
DESCRIPTION:Dank vielfältiger Renaturierung ist die Murg heute wieder ein Refugium für viele Pflanzen und Tiere und auch Fische. Sie zu entdecken und dabei viel Wissenswertes über die Hintergründe und Auswirkungen zu erfahren\, lädt die Naturerlebnistour der Tourist-Info ein.
CLASS:PUBLIC
X-ALT-DESC;FMTTYPE=text/html:Dank vielfältiger Renaturierung ist die Murg heute wieder ein Refugium für viele Pflanzen und Tiere und auch Fische. Sie zu entdecken und dabei viel Wissenswertes über die Hintergründe und Auswirkungen zu erfahren\, lädt die Naturerlebnistour der Tourist-Info ein.
END:VEVENT
BEGIN:VEVENT
DTSTART:20260519T080000Z
DTEND:20260519T100000Z
DTSTAMP:20260420T192719Z
UID:669843816-662145353-1779141600000
SUMMARY:Sprechstunde des Seniorenbüros
LOCATION:Rossi-Haus Seniorenbüro\, Herrenstraße 13
DESCRIPTION:Einmal wöchentlich steht das Team des Seniorenbüros im Rossi-Haus für Ihre Fragen zur Verfügung. Außerhalb der Sprechstunde bitten wir die Anfrage bzw. Nachricht auf unserem Anrufbeantworter zu hinterlassen. Wir rufen gerne während der Sprechstunde zurück.
CLASS:PUBLIC
X-ALT-DESC;FMTTYPE=text/html:Einmal wöchentlich steht das Team des Seniorenbüros im Rossi-Haus für Ihre Fragen zur Verfügung. Außerhalb der Sprechstunde bitten wir die Anfrage bzw. Nachricht auf unserem Anrufbeantworter zu hinterlassen. Wir rufen gerne während der Sprechstunde zurück.
END:VEVENT
BEGIN:VEVENT
DTSTART:20260522T170000Z
DTEND:20260522T190000Z
DTSTAMP:20260420T192719Z
UID:669801155-667735702-1779400800000
SUMMARY:Nachtwächterführung
LOCATION:Tourist-Information Rastatt\, Kapellenstraße 34
DESCRIPTION:Kostümführung mit dem Rastatter Nachtwächter
CLASS:PUBLIC
X-ALT-DESC;FMTTYPE=text/html:Kostümführung mit dem Rastatter Nachtwächter
END:VEVENT
BEGIN:VEVENT
DTSTART:20260526T080000Z
DTEND:20260526T100000Z
DTSTAMP:20260420T192719Z
UID:669843817-662145353-1779746400000
SUMMARY:Sprechstunde des Seniorenbüros
LOCATION:Rossi-Haus Seniorenbüro\, Herrenstraße 13
DESCRIPTION:Einmal wöchentlich steht das Team des Seniorenbüros im Rossi-Haus für Ihre Fragen zur Verfügung. Außerhalb der Sprechstunde bitten wir die Anfrage bzw. Nachricht auf unserem Anrufbeantworter zu hinterlassen. Wir rufen gerne während der Sprechstunde zurück.
CLASS:PUBLIC
X-ALT-DESC;FMTTYPE=text/html:Einmal wöchentlich steht das Team des Seniorenbüros im Rossi-Haus für Ihre Fragen zur Verfügung. Außerhalb der Sprechstunde bitten wir die Anfrage bzw. Nachricht auf unserem Anrufbeantworter zu hinterlassen. Wir rufen gerne während der Sprechstunde zurück.
END:VEVENT
BEGIN:VEVENT
DTSTART:20260528T150000Z
DTEND:20260528T180000Z
DTSTAMP:20260420T192719Z
UID:670603350-670603250-1779919200000
SUMMARY:Classics at Mercedes-Benz
LOCATION:Mercedes-Benz Kundencenter Rastatt\, Gottlieb-Daimler-Straße
DESCRIPTION:Markenoffenes\, kostenloses Old- und Youngtimer Treffen im Mercedes-Benz Kundencenter Rastatt. Keine Voranmeldung nötig.
CLASS:PUBLIC
X-ALT-DESC;FMTTYPE=text/html:Markenoffenes\, kostenloses Old- und Youngtimer Treffen im Mercedes-Benz Kundencenter Rastatt. Keine Voranmeldung nötig.
END:VEVENT
BEGIN:VEVENT
DTSTART:20260529T150000Z
DTEND:20260529T170000Z
DTSTAMP:20260420T192719Z
UID:670578679-667733604-1780005600000
SUMMARY:Wildkräuter-Führung: "Stadt-Kräuter" - Wildes (Un-)Kraut mitten in der Stadt
DESCRIPTION:Wildkräuter wachsen auch mitten in der Stadt. Die Rastatter Kräuterfrau weiß wo.
CLASS:PUBLIC
X-ALT-DESC;FMTTYPE=text/html:Wildkräuter wachsen auch mitten in der Stadt. Die Rastatter Kräuterfrau weiß wo.
END:VEVENT
BEGIN:VEVENT
DTSTART:20260530T093000Z
DTEND:20260530T113000Z
DTSTAMP:20260420T192719Z
UID:669801169-667733603-1780092000000
SUMMARY:Stadtführung mit Hofdame
LOCATION:Ehrenhof Schloss Rastatt (Treffpunkt)\, Herrenstraße 18 - 20
DESCRIPTION:Begleiten Sie eine Hofdame bei einem Spaziergang durch die Barockstadt und entdecken Sie das historische Rastatt vor den Toren der Residenz.
CLASS:PUBLIC
X-ALT-DESC;FMTTYPE=text/html:Begleiten Sie eine Hofdame bei einem Spaziergang durch die Barockstadt und entdecken Sie das historische Rastatt vor den Toren der Residenz.
END:VEVENT
END:VCALENDAR
