BEGIN:VCALENDAR
PRODID:-//dvv-bw.de//dvv.Portalplattform//DE
VERSION:2.0
METHOD:PUBLISH
BEGIN:VEVENT
DTSTART:20260626T143000Z
DTEND:20260626T163000Z
DTSTAMP:20260419T135611Z
UID:669850865-669850765-1782424800000
SUMMARY:Vom Hochbeet auf den Teller
LOCATION:Ökostation Rastatt\, Westring
DESCRIPTION:Veranstaltung im Rahmen des Rendezvous mit der Natur 2026
CLASS:PUBLIC
X-ALT-DESC;FMTTYPE=text/html:Veranstaltung im Rahmen des Rendezvous mit der Natur 2026
END:VEVENT
END:VCALENDAR
