BEGIN:VCALENDAR
PRODID:-//dvv-bw.de//dvv.Portalplattform//DE
VERSION:2.0
METHOD:PUBLISH
BEGIN:VEVENT
DTSTART:20261023T170000Z
DTEND:20261023T190000Z
DTSTAMP:20260420T030857Z
UID:669801150-667735702-1792706400000
SUMMARY:Nachtwächterführung
LOCATION:Tourist-Information Rastatt\, Kapellenstraße 34
DESCRIPTION:Kostümführung mit dem Rastatter Nachtwächter
CLASS:PUBLIC
X-ALT-DESC;FMTTYPE=text/html:Kostümführung mit dem Rastatter Nachtwächter
END:VEVENT
END:VCALENDAR
