BEGIN:VCALENDAR
PRODID:-//dvv-bw.de//dvv.Portalplattform//DE
VERSION:2.0
METHOD:PUBLISH
BEGIN:VEVENT
DTSTART:20260626T110000Z
DTEND:20260627T200000Z
DTSTAMP:20260425T150141Z
RRULE;FREQ=DAILY;UNTIL=20260627T215959Z
UID:670152411-670152309-1782424800000
SUMMARY:Jugend.Kultur.Festival.
LOCATION:Reithalle, Am Schlossplatz 9
DESCRIPTION:Am 26. und 27. Juni 2026 wird es kreativ\, laut\, bunt und vielfältig: Das Jugendkulturfestival bringt junge Menschen zusammen und bietet Raum für Musik\, Kunst\, Tanz\, Performance und eigene Ideen. Zwei Tage voller Inspiration\, Begegnung und jugendlicher Energie – von Jugendlichen mitgestaltet und für alle erlebbar.
CLASS:PUBLIC
X-ALT-DESC;FMTTYPE=text/html:Am 26. und 27. Juni 2026 wird es kreativ\, laut\, bunt und vielfältig: Das Jugendkulturfestival bringt junge Menschen zusammen und bietet Raum für Musik\, Kunst\, Tanz\, Performance und eigene Ideen. Zwei Tage voller Inspiration\, Begegnung und jugendlicher Energie &ndash; von Jugendlichen mitgestaltet und für alle erlebbar.
END:VEVENT
END:VCALENDAR
