BEGIN:VCALENDAR
PRODID:-//dvv-bw.de//dvv.Portalplattform//DE
VERSION:2.0
METHOD:PUBLISH
BEGIN:VEVENT
DTSTART:20260711T120000Z
DTEND:20260711T140000Z
DTSTAMP:20260422T065803Z
UID:670452659-667735703-1783720800000
SUMMARY:Führung auf dem Revolutionspfad
LOCATION:Tourist-Information Rastatt\, Kapellenstraße 34
DESCRIPTION:Stadtführung zur Badischen Revolution von 1848/49 in Rastatt
CLASS:PUBLIC
X-ALT-DESC;FMTTYPE=text/html:Stadtführung zur Badischen Revolution von 1848/49 in Rastatt
END:VEVENT
END:VCALENDAR
