BEGIN:VCALENDAR
PRODID:-//dvv-bw.de//dvv.Portalplattform//DE
VERSION:2.0
METHOD:PUBLISH
BEGIN:VEVENT
DTSTART:20261010T120000Z
DTEND:20261010T140000Z
DTSTAMP:20260419T202012Z
UID:670452658-667735703-1791583200000
SUMMARY:Führung auf dem Revolutionspfad
LOCATION:Tourist-Information Rastatt\, Kapellenstraße 34
DESCRIPTION:Stadtführung zur Badischen Revolution von 1848/49 in Rastatt
CLASS:PUBLIC
X-ALT-DESC;FMTTYPE=text/html:Stadtführung zur Badischen Revolution von 1848/49 in Rastatt
END:VEVENT
END:VCALENDAR
