BEGIN:VCALENDAR
PRODID:-//dvv-bw.de//dvv.Portalplattform//DE
VERSION:2.0
METHOD:PUBLISH
BEGIN:VEVENT
DTSTART:20260424T130000Z
DTEND:20260424T134500Z
DTSTAMP:20260422T013709Z
UID:670580752-670580651-1776981600000
SUMMARY:Der Wortschatz - Mehrsprachiges Bilderbuchkino
LOCATION:Kellertheater\, Herrenstraße 24\, 7643 Rastatt
DESCRIPTION:Für Kinder ab 4 Jahren.
CLASS:PUBLIC
X-ALT-DESC;FMTTYPE=text/html:Für Kinder ab 4 Jahren.
END:VEVENT
END:VCALENDAR
